Package: REBET Version: 1.22.0 Command: rm -rf REBET.buildbin-libdir && mkdir REBET.buildbin-libdir && E:\biocbuild\bbs-3.19-bioc\R\bin\R.exe CMD INSTALL --build --library=REBET.buildbin-libdir REBET_1.22.0.tar.gz StartedAt: 2024-10-17 08:27:14 -0400 (Thu, 17 Oct 2024) EndedAt: 2024-10-17 08:27:25 -0400 (Thu, 17 Oct 2024) EllapsedTime: 11.3 seconds RetCode: 0 Status: OK PackageFile: REBET_1.22.0.zip PackageFileSize: 234.5 KiB