Package: RDRToolbox Version: 1.54.0 Command: /Library/Frameworks/R.framework/Resources/bin/R CMD INSTALL RDRToolbox StartedAt: 2024-10-16 15:57:18 -0400 (Wed, 16 Oct 2024) EndedAt: 2024-10-16 15:57:25 -0400 (Wed, 16 Oct 2024) EllapsedTime: 7.1 seconds RetCode: 0 Status: OK