Package: RDRToolbox Version: 1.54.0 Command: /Library/Frameworks/R.framework/Resources/bin/R CMD build --keep-empty-dirs --no-resave-data RDRToolbox StartedAt: 2024-10-16 22:27:31 -0400 (Wed, 16 Oct 2024) EndedAt: 2024-10-16 22:28:04 -0400 (Wed, 16 Oct 2024) EllapsedTime: 33.1 seconds RetCode: 0 Status: OK PackageFile: RDRToolbox_1.54.0.tar.gz PackageFileSize: 190.5 KiB