Package: RCyjs Version: 2.26.1 Command: /home/biocbuild/R/R-beta-2024-04-15_r86425/bin/R CMD build --keep-empty-dirs --no-resave-data RCyjs StartedAt: 2024-05-09 02:52:43 -0000 (Thu, 09 May 2024) EndedAt: 2024-05-09 02:52:55 -0000 (Thu, 09 May 2024) EllapsedTime: 12.0 seconds RetCode: 0 Status: OK PackageFile: RCyjs_2.26.1.tar.gz PackageFileSize: 1.109 MiB