Package: RCy3 Version: 2.24.0 Command: /home/biocbuild/bbs-3.19-bioc/R/bin/R CMD build --keep-empty-dirs --no-resave-data RCy3 StartedAt: 2024-10-16 20:21:31 -0400 (Wed, 16 Oct 2024) EndedAt: 2024-10-16 20:22:04 -0400 (Wed, 16 Oct 2024) EllapsedTime: 33.1 seconds RetCode: 0 Status: OK PackageFile: RCy3_2.24.0.tar.gz PackageFileSize: 6.456 MiB