Package: RCy3 Version: 2.24.0 Command: rm -rf RCy3.buildbin-libdir && mkdir RCy3.buildbin-libdir && /Users/biocbuild/BBS/utils/build-universal.sh RCy3_2.24.0.tar.gz /Library/Frameworks/R.framework/Resources/bin/R RCy3.buildbin-libdir StartedAt: 2024-10-17 16:56:57 -0400 (Thu, 17 Oct 2024) EndedAt: 2024-10-17 16:57:39 -0400 (Thu, 17 Oct 2024) EllapsedTime: 42.1 seconds RetCode: 0 Status: OK PackageFile: RCy3_2.24.0.tgz PackageFileSize: 7.291 MiB