Package: RAREsim Version: 1.8.0 Command: chmod a+r RAREsim -R && E:\biocbuild\bbs-3.19-bioc\R\bin\R.exe CMD build --keep-empty-dirs --no-resave-data RAREsim StartedAt: 2024-10-16 21:21:28 -0400 (Wed, 16 Oct 2024) EndedAt: 2024-10-16 21:21:39 -0400 (Wed, 16 Oct 2024) EllapsedTime: 11.0 seconds RetCode: 0 Status: OK PackageFile: RAREsim_1.8.0.tar.gz PackageFileSize: 257.3 KiB