Package: R4RNA Version: 1.32.0 Command: /home/biocbuild/R/R-beta-2024-04-15_r86425/bin/R CMD check --install=check:R4RNA.install-out.txt --library=/home/biocbuild/R/R-beta-2024-04-15_r86425/site-library --no-vignettes --timings R4RNA_1.32.0.tar.gz StartedAt: 2024-05-09 10:56:50 -0000 (Thu, 09 May 2024) EndedAt: 2024-05-09 10:58:21 -0000 (Thu, 09 May 2024) EllapsedTime: 91.2 seconds RetCode: 0 Status: OK CheckDir: R4RNA.Rcheck Warnings: 0