Package: R3CPET Version: 1.36.0 Command: chmod a+r R3CPET -R && E:\biocbuild\bbs-3.19-bioc\R\bin\R.exe CMD build --keep-empty-dirs --no-resave-data R3CPET StartedAt: 2024-10-16 21:19:12 -0400 (Wed, 16 Oct 2024) EndedAt: 2024-10-16 21:22:04 -0400 (Wed, 16 Oct 2024) EllapsedTime: 172.1 seconds RetCode: 0 Status: OK PackageFile: R3CPET_1.36.0.tar.gz PackageFileSize: 5.084 MiB