Package: Qtlizer Version: 1.18.0 Command: /Library/Frameworks/R.framework/Resources/bin/R CMD build --keep-empty-dirs --no-resave-data Qtlizer StartedAt: 2024-10-16 22:19:46 -0400 (Wed, 16 Oct 2024) EndedAt: 2024-10-16 22:20:01 -0400 (Wed, 16 Oct 2024) EllapsedTime: 14.9 seconds RetCode: 1 Status: ERROR PackageFile: None PackageFileSize: NA