Package: Qtlizer Version: 1.18.0 Command: /home/biocbuild/R/R-beta-2024-04-15_r86425/bin/R CMD INSTALL Qtlizer StartedAt: 2024-05-08 21:07:56 -0000 (Wed, 08 May 2024) EndedAt: 2024-05-08 21:07:58 -0000 (Wed, 08 May 2024) EllapsedTime: 2.1 seconds RetCode: 0 Status: OK