Package: QUBIC Version: 1.32.0 Command: /home/biocbuild/bbs-3.19-bioc/R/bin/R CMD build --keep-empty-dirs --no-resave-data QUBIC StartedAt: 2024-10-16 20:16:56 -0400 (Wed, 16 Oct 2024) EndedAt: 2024-10-16 20:18:28 -0400 (Wed, 16 Oct 2024) EllapsedTime: 92.2 seconds RetCode: 0 Status: OK PackageFile: QUBIC_1.32.0.tar.gz PackageFileSize: 494.6 KiB