Package: QUBIC Version: 1.32.0 Command: /Library/Frameworks/R.framework/Resources/bin/R CMD INSTALL QUBIC StartedAt: 2024-06-09 15:37:14 -0400 (Sun, 09 Jun 2024) EndedAt: 2024-06-09 15:37:49 -0400 (Sun, 09 Jun 2024) EllapsedTime: 35.2 seconds RetCode: 0 Status: OK