Package: QDNAseq Version: 1.40.0 Command: F:\biocbuild\bbs-3.19-bioc\R\bin\R.exe CMD INSTALL QDNAseq StartedAt: 2024-06-26 16:02:11 -0400 (Wed, 26 Jun 2024) EndedAt: 2024-06-26 16:02:51 -0400 (Wed, 26 Jun 2024) EllapsedTime: 40.5 seconds RetCode: 0 Status: OK