Package: ProtGenerics Version: 1.36.0 Command: rm -rf ProtGenerics.buildbin-libdir && mkdir ProtGenerics.buildbin-libdir && /Users/biocbuild/BBS/utils/build-universal.sh ProtGenerics_1.36.0.tar.gz /Library/Frameworks/R.framework/Resources/bin/R ProtGenerics.buildbin-libdir StartedAt: 2024-10-18 20:03:21 -0400 (Fri, 18 Oct 2024) EndedAt: 2024-10-18 20:03:27 -0400 (Fri, 18 Oct 2024) EllapsedTime: 5.8 seconds RetCode: 0 Status: OK PackageFile: ProtGenerics_1.36.0.tgz PackageFileSize: 241.6 KiB