Package: PhenoGeneRanker Version: 1.12.0 Command: chmod a+r PhenoGeneRanker -R && E:\biocbuild\bbs-3.19-bioc\R\bin\R.exe CMD build --keep-empty-dirs --no-resave-data PhenoGeneRanker StartedAt: 2024-10-16 21:05:32 -0400 (Wed, 16 Oct 2024) EndedAt: 2024-10-16 21:13:29 -0400 (Wed, 16 Oct 2024) EllapsedTime: 477.2 seconds RetCode: 0 Status: OK PackageFile: PhenoGeneRanker_1.12.0.tar.gz PackageFileSize: 28.24 KiB