Package: PhenoGeneRanker Version: 1.12.0 Command: /home/biocbuild/bbs-3.19-bioc/R/bin/R CMD build --keep-empty-dirs --no-resave-data PhenoGeneRanker StartedAt: 2024-10-16 20:07:26 -0400 (Wed, 16 Oct 2024) EndedAt: 2024-10-16 20:15:59 -0400 (Wed, 16 Oct 2024) EllapsedTime: 513.2 seconds RetCode: 0 Status: OK PackageFile: PhenoGeneRanker_1.12.0.tar.gz PackageFileSize: 28.08 KiB