Package: PharmacoGx Version: 3.8.0 Command: rm -rf PharmacoGx.buildbin-libdir && mkdir PharmacoGx.buildbin-libdir && E:\biocbuild\bbs-3.19-bioc\R\bin\R.exe CMD INSTALL --build --library=PharmacoGx.buildbin-libdir PharmacoGx_3.8.0.tar.gz StartedAt: 2024-10-17 08:20:35 -0400 (Thu, 17 Oct 2024) EndedAt: 2024-10-17 08:22:40 -0400 (Thu, 17 Oct 2024) EllapsedTime: 124.8 seconds RetCode: 0 Status: OK PackageFile: PharmacoGx_3.8.0.zip PackageFileSize: 4.153 MiB