Package: PSMatch Version: 1.8.0 Command: E:\biocbuild\bbs-3.19-bioc\R\bin\R.exe CMD INSTALL PSMatch StartedAt: 2024-10-16 16:50:22 -0400 (Wed, 16 Oct 2024) EndedAt: 2024-10-16 16:51:04 -0400 (Wed, 16 Oct 2024) EllapsedTime: 41.4 seconds RetCode: 0 Status: OK