Package: PSMatch Version: 1.8.0 Command: chmod a+r PSMatch -R && E:\biocbuild\bbs-3.19-bioc\R\bin\R.exe CMD build --keep-empty-dirs --no-resave-data PSMatch StartedAt: 2024-10-16 21:15:06 -0400 (Wed, 16 Oct 2024) EndedAt: 2024-10-16 21:25:42 -0400 (Wed, 16 Oct 2024) EllapsedTime: 635.8 seconds RetCode: 0 Status: OK PackageFile: PSMatch_1.8.0.tar.gz PackageFileSize: 1.106 MiB