Package: PSMatch Version: 1.8.0 Command: /home/biocbuild/bbs-3.19-bioc/R/bin/R CMD check --install=check:PSMatch.install-out.txt --library=/home/biocbuild/bbs-3.19-bioc/R/site-library --timings PSMatch_1.8.0.tar.gz StartedAt: 2024-10-17 03:58:20 -0400 (Thu, 17 Oct 2024) EndedAt: 2024-10-17 04:03:43 -0400 (Thu, 17 Oct 2024) EllapsedTime: 323.7 seconds RetCode: 0 Status: OK CheckDir: PSMatch.Rcheck Warnings: 0