Package: PSMatch Version: 1.8.0 Command: /Library/Frameworks/R.framework/Resources/bin/R CMD check --install=check:PSMatch.install-out.txt --library=/Library/Frameworks/R.framework/Resources/library --no-vignettes --timings PSMatch_1.8.0.tar.gz StartedAt: 2024-06-09 22:21:24 -0400 (Sun, 09 Jun 2024) EndedAt: 2024-06-09 22:26:02 -0400 (Sun, 09 Jun 2024) EllapsedTime: 277.4 seconds RetCode: 0 Status: OK CheckDir: PSMatch.Rcheck Warnings: 0