Package: PSMatch Version: 1.8.0 Command: /home/biocbuild/R/R-beta-2024-04-15_r86425/bin/R CMD build --keep-empty-dirs --no-resave-data PSMatch StartedAt: 2024-05-09 02:39:43 -0000 (Thu, 09 May 2024) EndedAt: 2024-05-09 02:41:47 -0000 (Thu, 09 May 2024) EllapsedTime: 124.2 seconds RetCode: 0 Status: OK PackageFile: PSMatch_1.8.0.tar.gz PackageFileSize: 1.303 MiB