Package: PROcess Version: 1.80.0 Command: /home/biocbuild/R/R-beta-2024-04-15_r86425/bin/R CMD build --keep-empty-dirs --no-resave-data PROcess StartedAt: 2024-05-09 02:37:18 -0000 (Thu, 09 May 2024) EndedAt: 2024-05-09 02:37:37 -0000 (Thu, 09 May 2024) EllapsedTime: 19.0 seconds RetCode: 0 Status: OK PackageFile: PROcess_1.80.0.tar.gz PackageFileSize: 1.998 MiB