Package: PPInfer Version: 1.30.0 Command: rm -rf PPInfer.buildbin-libdir && mkdir PPInfer.buildbin-libdir && /Users/biocbuild/BBS/utils/build-universal.sh PPInfer_1.30.0.tar.gz /Library/Frameworks/R.framework/Resources/bin/R PPInfer.buildbin-libdir StartedAt: 2024-10-17 16:51:48 -0400 (Thu, 17 Oct 2024) EndedAt: 2024-10-17 16:52:47 -0400 (Thu, 17 Oct 2024) EllapsedTime: 59.0 seconds RetCode: 0 Status: OK PackageFile: PPInfer_1.30.0.tgz PackageFileSize: 387 KiB