Package: POMA Version: 1.14.0 Command: F:\biocbuild\bbs-3.19-bioc\R\bin\R.exe CMD INSTALL POMA StartedAt: 2024-06-26 16:41:03 -0400 (Wed, 26 Jun 2024) EndedAt: 2024-06-26 16:41:12 -0400 (Wed, 26 Jun 2024) EllapsedTime: 8.6 seconds RetCode: 0 Status: OK