Package: POMA Version: 1.14.0 Command: /Library/Frameworks/R.framework/Resources/bin/R CMD build --keep-empty-dirs --no-resave-data POMA StartedAt: 2024-10-17 06:35:21 -0400 (Thu, 17 Oct 2024) EndedAt: 2024-10-17 06:36:06 -0400 (Thu, 17 Oct 2024) EllapsedTime: 44.8 seconds RetCode: 0 Status: OK PackageFile: POMA_1.14.0.tar.gz PackageFileSize: 2.143 MiB