############################################################################## ############################################################################## ### ### Running command: ### ### E:\biocbuild\bbs-3.19-bioc\R\bin\R.exe CMD INSTALL PLSDAbatch ### ############################################################################## ############################################################################## * installing to library 'E:/biocbuild/bbs-3.19-bioc/R/library' * installing *source* package 'PLSDAbatch' ... ** using staged installation Warning in person1(given = given[[i]], family = family[[i]], middle = middle[[i]], : It is recommended to use 'given' instead of 'middle'. Warning in person1(given = given[[i]], family = family[[i]], middle = middle[[i]], : It is recommended to use 'given' instead of 'middle'. ** R ** data ** inst ** byte-compile and prepare package for lazy loading Warning: replacing previous import 'mixOmics::pca' by 'vegan::pca' when loading 'PLSDAbatch' ** help Loading required namespace: PLSDAbatch Warning: replacing previous import 'mixOmics::pca' by 'vegan::pca' when loading 'PLSDAbatch' *** installing help indices ** building package indices ** installing vignettes ** testing if installed package can be loaded from temporary location Warning: replacing previous import 'mixOmics::pca' by 'vegan::pca' when loading 'PLSDAbatch' ** testing if installed package can be loaded from final location Warning: replacing previous import 'mixOmics::pca' by 'vegan::pca' when loading 'PLSDAbatch' ** testing if installed package keeps a record of temporary installation path * DONE (PLSDAbatch)