Package: PLPE Version: 1.64.0 Command: /Library/Frameworks/R.framework/Resources/bin/R CMD build --keep-empty-dirs --no-resave-data PLPE StartedAt: 2024-10-16 22:08:41 -0400 (Wed, 16 Oct 2024) EndedAt: 2024-10-16 22:09:09 -0400 (Wed, 16 Oct 2024) EllapsedTime: 28.0 seconds RetCode: 0 Status: OK PackageFile: PLPE_1.64.0.tar.gz PackageFileSize: 263 KiB