Package: PCAtools Version: 2.16.0 Command: F:\biocbuild\bbs-3.19-bioc\R\bin\R.exe CMD INSTALL PCAtools StartedAt: 2024-06-26 16:42:37 -0400 (Wed, 26 Jun 2024) EndedAt: 2024-06-26 16:43:31 -0400 (Wed, 26 Jun 2024) EllapsedTime: 54.1 seconds RetCode: 0 Status: OK