Package: PAST Version: 1.20.0 Command: rm -rf PAST.buildbin-libdir && mkdir PAST.buildbin-libdir && F:\biocbuild\bbs-3.19-bioc\R\bin\R.exe CMD INSTALL --build --library=PAST.buildbin-libdir PAST_1.20.0.tar.gz StartedAt: 2024-06-27 08:39:08 -0400 (Thu, 27 Jun 2024) EndedAt: 2024-06-27 08:39:57 -0400 (Thu, 27 Jun 2024) EllapsedTime: 48.6 seconds RetCode: 0 Status: OK PackageFile: PAST_1.20.0.zip PackageFileSize: 1013 KiB