Package: PAST Version: 1.20.0 Command: /home/biocbuild/bbs-3.19-bioc/R/bin/R CMD check --install=check:PAST.install-out.txt --library=/home/biocbuild/bbs-3.19-bioc/R/site-library --timings PAST_1.20.0.tar.gz StartedAt: 2024-10-17 03:36:56 -0400 (Thu, 17 Oct 2024) EndedAt: 2024-10-17 03:46:36 -0400 (Thu, 17 Oct 2024) EllapsedTime: 579.6 seconds RetCode: 0 Status: WARNINGS CheckDir: PAST.Rcheck Warnings: 2