Package: PAST Version: 1.20.0 Command: /home/biocbuild/bbs-3.19-bioc/R/bin/R CMD build --keep-empty-dirs --no-resave-data PAST StartedAt: 2024-10-16 20:03:43 -0400 (Wed, 16 Oct 2024) EndedAt: 2024-10-16 20:06:14 -0400 (Wed, 16 Oct 2024) EllapsedTime: 150.4 seconds RetCode: 0 Status: OK PackageFile: PAST_1.20.0.tar.gz PackageFileSize: 954.2 KiB