Package: PAST Version: 1.20.0 Command: /Library/Frameworks/R.framework/Resources/bin/R CMD INSTALL PAST StartedAt: 2024-06-09 15:17:30 -0400 (Sun, 09 Jun 2024) EndedAt: 2024-06-09 15:18:12 -0400 (Sun, 09 Jun 2024) EllapsedTime: 42.3 seconds RetCode: 0 Status: OK