Package: PAST Version: 1.20.0 Command: /Library/Frameworks/R.framework/Resources/bin/R CMD build --keep-empty-dirs --no-resave-data PAST StartedAt: 2024-10-17 06:11:23 -0400 (Thu, 17 Oct 2024) EndedAt: 2024-10-17 06:13:50 -0400 (Thu, 17 Oct 2024) EllapsedTime: 147.8 seconds RetCode: 0 Status: OK PackageFile: PAST_1.20.0.tar.gz PackageFileSize: 954.4 KiB