Package: Organism.dplyr Version: 1.32.0 Command: /Library/Frameworks/R.framework/Resources/bin/R CMD INSTALL Organism.dplyr StartedAt: 2024-10-16 16:30:27 -0400 (Wed, 16 Oct 2024) EndedAt: 2024-10-16 16:31:15 -0400 (Wed, 16 Oct 2024) EllapsedTime: 47.7 seconds RetCode: 0 Status: OK