Package: OpenStats Version: 1.16.0 Command: E:\biocbuild\bbs-3.19-bioc\R\bin\R.exe CMD INSTALL OpenStats StartedAt: 2024-10-16 17:01:52 -0400 (Wed, 16 Oct 2024) EndedAt: 2024-10-16 17:02:29 -0400 (Wed, 16 Oct 2024) EllapsedTime: 37.0 seconds RetCode: 0 Status: OK