Package: ORFik Version: 1.24.0 Command: rm -rf ORFik.buildbin-libdir && mkdir ORFik.buildbin-libdir && E:\biocbuild\bbs-3.19-bioc\R\bin\R.exe CMD INSTALL --build --library=ORFik.buildbin-libdir ORFik_1.24.0.tar.gz StartedAt: 2024-10-17 08:18:18 -0400 (Thu, 17 Oct 2024) EndedAt: 2024-10-17 08:20:57 -0400 (Thu, 17 Oct 2024) EllapsedTime: 158.4 seconds RetCode: 0 Status: OK PackageFile: ORFik_1.24.0.zip PackageFileSize: 5.095 MiB