Package: ORFhunteR Version: 1.12.0 Command: /home/biocbuild/R/R-beta-2024-04-15_r86425/bin/R CMD build --keep-empty-dirs --no-resave-data ORFhunteR StartedAt: 2024-05-09 02:17:25 -0000 (Thu, 09 May 2024) EndedAt: 2024-05-09 02:21:28 -0000 (Thu, 09 May 2024) EllapsedTime: 242.4 seconds RetCode: 0 Status: OK PackageFile: ORFhunteR_1.12.0.tar.gz PackageFileSize: 2.131 MiB