Package: OLINgui Version: 1.78.0 Command: rm -rf OLINgui.buildbin-libdir && mkdir OLINgui.buildbin-libdir && E:\biocbuild\bbs-3.19-bioc\R\bin\R.exe CMD INSTALL --build --library=OLINgui.buildbin-libdir OLINgui_1.78.0.tar.gz StartedAt: 2024-10-17 08:17:00 -0400 (Thu, 17 Oct 2024) EndedAt: 2024-10-17 08:17:07 -0400 (Thu, 17 Oct 2024) EllapsedTime: 7.1 seconds RetCode: 0 Status: OK PackageFile: OLINgui_1.78.0.zip PackageFileSize: 226.1 KiB