Package: OLINgui Version: 1.78.0 Command: /Library/Frameworks/R.framework/Resources/bin/R CMD check --install=check:OLINgui.install-out.txt --library=/Library/Frameworks/R.framework/Resources/library --no-vignettes --timings OLINgui_1.78.0.tar.gz StartedAt: 2024-06-09 21:57:03 -0400 (Sun, 09 Jun 2024) EndedAt: 2024-06-09 21:57:50 -0400 (Sun, 09 Jun 2024) EllapsedTime: 47.1 seconds RetCode: 0 Status: OK CheckDir: OLINgui.Rcheck Warnings: 0