Package: OLIN Version: 1.82.0 Command: /Library/Frameworks/R.framework/Resources/bin/R CMD check --install=check:OLIN.install-out.txt --library=/Library/Frameworks/R.framework/Resources/library --no-vignettes --timings OLIN_1.82.0.tar.gz StartedAt: 2024-06-11 00:07:07 -0400 (Tue, 11 Jun 2024) EndedAt: 2024-06-11 00:08:40 -0400 (Tue, 11 Jun 2024) EllapsedTime: 92.4 seconds RetCode: 0 Status: OK CheckDir: OLIN.Rcheck Warnings: 0