Package: OCplus Version: 1.78.0 Command: rm -rf OCplus.buildbin-libdir && mkdir OCplus.buildbin-libdir && E:\biocbuild\bbs-3.19-bioc\R\bin\R.exe CMD INSTALL --build --library=OCplus.buildbin-libdir OCplus_1.78.0.tar.gz StartedAt: 2024-10-17 08:16:45 -0400 (Thu, 17 Oct 2024) EndedAt: 2024-10-17 08:17:05 -0400 (Thu, 17 Oct 2024) EllapsedTime: 20.4 seconds RetCode: 0 Status: OK PackageFile: OCplus_1.78.0.zip PackageFileSize: 9.723 MiB