Package: NormqPCR Version: 1.50.0 Command: /Library/Frameworks/R.framework/Resources/bin/R CMD build --keep-empty-dirs --no-resave-data NormqPCR StartedAt: 2024-06-09 17:32:25 -0400 (Sun, 09 Jun 2024) EndedAt: 2024-06-09 17:33:04 -0400 (Sun, 09 Jun 2024) EllapsedTime: 39.7 seconds RetCode: 0 Status: OK PackageFile: NormqPCR_1.50.0.tar.gz PackageFileSize: 417.1 KiB