Package: NewWave Version: 1.14.0 Command: /home/biocbuild/R/R-beta-2024-04-15_r86425/bin/R CMD build --keep-empty-dirs --no-resave-data NewWave StartedAt: 2024-05-09 02:08:10 -0000 (Thu, 09 May 2024) EndedAt: 2024-05-09 02:11:54 -0000 (Thu, 09 May 2024) EllapsedTime: 223.4 seconds RetCode: 0 Status: OK PackageFile: NewWave_1.14.0.tar.gz PackageFileSize: 57.95 KiB