Package: NetPathMiner Version: 1.40.2 Command: E:\biocbuild\bbs-3.19-bioc\R\bin\R.exe CMD INSTALL NetPathMiner StartedAt: 2024-10-16 16:00:52 -0400 (Wed, 16 Oct 2024) EndedAt: 2024-10-16 16:01:10 -0400 (Wed, 16 Oct 2024) EllapsedTime: 17.9 seconds RetCode: 1 Status: ERROR