Package: NeighborNet Version: 1.22.0 Command: chmod a+r NeighborNet -R && F:\biocbuild\bbs-3.19-bioc\R\bin\R.exe CMD build --keep-empty-dirs --no-resave-data NeighborNet StartedAt: 2024-06-26 20:28:00 -0400 (Wed, 26 Jun 2024) EndedAt: 2024-06-26 20:28:23 -0400 (Wed, 26 Jun 2024) EllapsedTime: 22.5 seconds RetCode: 0 Status: OK PackageFile: NeighborNet_1.22.0.tar.gz PackageFileSize: 3.565 MiB