Package: NanoTube Version: 1.10.0 Command: rm -rf NanoTube.buildbin-libdir && mkdir NanoTube.buildbin-libdir && /Users/biocbuild/BBS/utils/build-universal.sh NanoTube_1.10.0.tar.gz /Library/Frameworks/R.framework/Resources/bin/R NanoTube.buildbin-libdir StartedAt: 2024-06-10 00:29:40 -0400 (Mon, 10 Jun 2024) EndedAt: 2024-06-10 00:29:56 -0400 (Mon, 10 Jun 2024) EllapsedTime: 16.1 seconds RetCode: 0 Status: OK PackageFile: NanoTube_1.10.0.tgz PackageFileSize: 2.116 MiB