Package: NTW Version: 1.54.0 Command: /home/biocbuild/bbs-3.19-bioc/R/bin/R CMD check --install=check:NTW.install-out.txt --library=/home/biocbuild/bbs-3.19-bioc/R/site-library --timings NTW_1.54.0.tar.gz StartedAt: 2024-10-17 03:09:46 -0400 (Thu, 17 Oct 2024) EndedAt: 2024-10-17 03:10:19 -0400 (Thu, 17 Oct 2024) EllapsedTime: 33.1 seconds RetCode: 0 Status: WARNINGS CheckDir: NTW.Rcheck Warnings: 1