Package: NTW Version: 1.54.0 Command: /home/biocbuild/R/R-beta-2024-04-15_r86425/bin/R CMD check --install=check:NTW.install-out.txt --library=/home/biocbuild/R/R-beta-2024-04-15_r86425/site-library --no-vignettes --timings NTW_1.54.0.tar.gz StartedAt: 2024-05-09 10:07:28 -0000 (Thu, 09 May 2024) EndedAt: 2024-05-09 10:08:00 -0000 (Thu, 09 May 2024) EllapsedTime: 32.0 seconds RetCode: 0 Status: WARNINGS CheckDir: NTW.Rcheck Warnings: 1